Workbook

Sheet Instructions
A1: FY27 Budget Template Instructions:
A2: 1. Note: Use the FY27 Budget Template provided. Budget totals do not auto populate in eBRAP and cannot be manually entered into the Budget and Justification section of the eBRAP tab. Costs will reflect $0.00 for Direct, Indirect and Total Costs. This is not an error. Screen shot of that section in eBRAP below.
A27: 2. Upload the Budget Template as “Budget_LastName.xslx.” Ensure the Header section of each tab is completed, and tabs are renamed in accordance with performing lab(s). The purpose of the template is to organize the information for an intramural proposal in a format that can be reviewed by the STPMD Portfolio in a standard format.
A28: 3. Each budget tab should provide complete identifying information (Proposal #, PI, Proposal Title, Laboratory). Each tab should be renamed to reflect name of lab. This is important to support peer review processes. NOTE: “2027 Lab A” tab header information and information on subsequent budget tabs will pre-populate header information on the Summary reducing duplication of information by the PI.
A29: 4. Each performing organization may have a standard process by which budget estimates for proposals are prepared. That information should be transferred onto the provided template. The information for each performing organization must be rolled up into the summary tab.
A30: 5. Check to ensure that the costs are totaled correctly. Some formulas have been provided in the template. Modify formulas or sheets as needed.
A31: 6. Total budget numbers should be rounded to the nearest thousand. The summary tab includes a formula to round the project totals to the nearest thousand.
A32: 7. DHA R&D Office of Regulated Activities (ORA) Support Costs: If FDA/EPA regulatory support is required, the proposal budget should account for ORA support costs in a separate tab for each year ORA support is required. The Lead PI will be required to confirm ORA budget with ORA in writing prior to budget submission and to upload the confirmation statement from ORA. The PI is responsible for ensuring ORA support has been validated and the budget is appropriate. Data entered in eBRAP during pre-application should be consistent. ORA costs will be revalidated each year if the proposal is selected for tail funding.
A33: 8. Collaborative Projects: If multiple intramural performing organizations are collaborating on the proposal, provide a separate detailed budget tab for each performing organization for each year they are involved in the project by copying the Lab Detailed Budget tab. Funds will be sent directly to each intramural performing organization. Any extramural partnering organization named in the intramural proposal must receive funds through the collaborating intramural performing organization (via appropriate contract, cooperative agreement, or funding transfer agreement such as 7600).
A34: 9. Government and Military Labor: Ensure the name of the person and fractional effort they will spend each year on the plan are itemized for each lab. Consult with performing organization budget office if required to account for fully burdened civilian pay rate. Include military labor with a unit cost of $0.00 to ensure military FTEs % of effort roll up into the FTE analysis later in the cycle.
A35: 10. Contracts: List contracted services separately from contract labor working in the lab. o Other Services Example: If monoclonal production will be contracted to a contract manufacturing organization, list that service in “other services.” o Contract Personnel Services includes contractors, Cooperative Agreement employees, NRC, ORISE, etc. Contract labor should be listed by position/title instead of the person's name. Do not include Foundation employees who are paid directly from other sources. Use Column D to list type of employee (contract, CA, ORISE, NRC, etc.).
A36: 11. Equipment: Provide justification in the proposal narrative and budget justification (proposal section 3.b) for why the equipment is needed to support the effort and why there is no similar type of equipment in the lab that will meet the requirement. Consider any equipment maintenance costs in subsequent years budgets.
... A39: 14. Subaward Budget: Include all Subaward budgets under EOR 25 on the appropriate lab tab for the lab that is paying for this service.

Sheet Example Budget
A1: Proposal/Plan #: | C1: eBRAP log number | D1: Note: These fields update header on Summary tab and additional Lab tabs.
A2: Proposal Title: | C2: Short title
A3: Investigator: | C3: PI Name
A4: Laboratory Name: | C4: Lab A | D4: i.e. USAMRIID, WRAIR, NAMRU-SA, etc - DO NOT LEAVE as Lab A
A5: FY: | C5: 2027
A6: EOR | B6: EOR Title | D6: Additional Info | E6: # Units/ FTEs | F6: Unit Cost | G6: Total
A8: 11 | B8: Government Labor | C8: Name | D8: JTD Alignment (FMTS#) | E8: =SUM(E9:E19) -> 0.5 | G8: =SUM(G9:G19) -> 50000
C9: Researcher, Joe | E9: 0.5 | F9: 100000 | G9: =SUM(E9*F9) -> 50000
G10: =SUM(E10*F10) -> 0
G11: =SUM(E11*F11) -> 0
G12: =SUM(E12*F12) -> 0
G13: =SUM(E13*F13) -> 0
G14: =SUM(E14*F14) -> 0
G15: =SUM(E15*F15) -> 0
G16: =SUM(E16*F16) -> 0
G17: =SUM(E17*F17) -> 0
G18: =SUM(E18*F18) -> 0
G19: =SUM(E19*F19) -> 0
A20: 11 | B20: Military Labor | C20: Name | E20: =SUM(E21:E28) -> 0.3 | G20: =SUM(G21:G28) -> 0
C21: Smith, MAJ William | E21: 0.3 | F21: 0 | G21: =SUM(E21*F21) -> 0
G22: =SUM(E22*F22) -> 0
G23: =SUM(E23*F23) -> 0
G24: =SUM(E24*F24) -> 0
G25: =SUM(E25*F25) -> 0
G26: =SUM(E26*F26) -> 0
G27: =SUM(E27*F27) -> 0
G28: =SUM(E28*F28) -> 0
A29: 21 | B29: Travel | G29: =SUM(G30:G32) -> 15000
C30: Conferences | D30: MHSRS | E30: 3 | F30: 3000 | G30: =F30*E30 -> 9000
C31: Meetings | D31: IIPT | E31: 2 | F31: 3000 | G31: =F31*E31 -> 6000
G32: =F32*E32 -> 0
A33: 22 | B33: Shipping | G33: =SUM(G34:G35) -> 2500
C34: FedEx | D34: Clinical samples | E34: 10 | F34: 250 | G34: =SUM(E34*F34) -> 2500
G35: =SUM(E35*F35) -> 0
A36: 23 | B36: Rentals | G36: =SUM(G37:G38) -> 8000
C37: Rental Vehicle | D37: Travel to field sites | E37: 1 | F37: 8000 | G37: =SUM(E37*F37) -> 8000
G38: =SUM(E38*F38) -> 0
A39: 24 | B39: Printing | G39: =SUM(G40:G41) -> 5000
C40: Reprints | D40: Journal articles | E40: 2 | F40: 2500 | G40: =SUM(E40*F40) -> 5000
G41: =SUM(E41*F41) -> 0
...

Sheet Summary
A1: Proposal/Plan #: | D1: ='2027 Lab Name A'!C1 -> eBRAP log number | H1: Summary information is populated by the individual tabs. Do not edit here.
A2: Title: | D2: ='2027 Lab Name A'!C2 -> Short title
A3: Lead Investigator: | D3: ='2027 Lab Name A'!C3 -> PI Name
A4: Lead Lab: | D4: ='2027 Lab Name A'!C4 -> Lab A
A5: EOR | B5: EOR Title | D5: FY 2027 | I5: FY 2028 | N5: FY 2029
D6: ='2027 Lab Name A'!$C$4 -> Lab A | E6: ='2027 Lab Name B'!$C$4 -> Lab B | F6: ='2027 ORA'!$C$5 -> ORA | G6: Total | I6: ='2028 Lab Name A'!$C$4 -> Lab A | J6: ='2028 Lab Name B'!$C$4 -> Lab B | K6: ='2028 ORA'!$C$5 -> ORA | L6: Total | N6: ='2029 Lab Name A'!$C$4 -> Lab A | O6: ='2029 Lab Name B'!C4 -> Lab B | P6: ='2029 ORA'!$C$5 -> ORA | Q6: Total
B7: PI or POC name(s): | D7: ='2027 Lab Name A'!C3 -> PI Name | E7: ='2027 Lab Name B'!C3 -> PI Name | F7: ='2027 ORA'!C4 -> ORA Name | I7: ='2028 Lab Name A'!C3 -> PI Name | J7: ='2028 Lab Name B'!C3 -> PI Name | K7: ='2028 ORA'!C4 -> ORA Name | N7: ='2029 Lab Name A'!C3 -> PI Name | O7: ='2029 Lab Name B'!C3 -> PI Name | P7: ='2029 ORA'!C4 -> ORA Name
A8: 11 | B8: Civilian Salary | D8: ='2027 Lab Name A'!$G$8 -> 0 | E8: ='2027 Lab Name B'!$G$8 -> 0 | F8: ='2027 ORA'!$G$9 -> 0 | G8: =SUM(D8:F8) -> 0 | I8: ='2028 Lab Name A'!$G$9 -> 0 | J8: ='2028 Lab Name B'!$G$9 -> 0 | K8: ='2028 ORA'!$G$10 -> 0 | L8: =SUM(I8:K8) -> 0 | N8: ='2029 Lab Name A'!$G$9 -> 0 | O8: ='2029 Lab Name B'!G9 -> 0 | P8: ='2029 ORA'!$G$10 -> 0 | Q8: =SUM(N8:P8) -> 0
A9: 21 | B9: Travel | D9: ='2027 Lab Name A'!$G$29 -> 0 | E9: ='2027 Lab Name B'!$G$29 -> 0 | F9: ='2027 ORA'!$G$29 -> 0 | G9: =SUM(D9:F9) -> 0 | I9: ='2028 Lab Name A'!$G$30 -> 0 | J9: ='2028 Lab Name B'!$G$30 -> 0 | K9: ='2028 ORA'!$G$30 -> 0 | L9: =SUM(I9:K9) -> 0 | N9: ='2029 Lab Name A'!$G$30 -> 0 | O9: ='2029 Lab Name B'!G30 -> 0 | P9: ='2029 ORA'!$G$30 -> 0 | Q9: =SUM(N9:P9) -> 0
A10: 22 | B10: Shipping | D10: ='2027 Lab Name A'!$G$33 -> 0 | E10: ='2027 Lab Name B'!$G$33 -> 0 | F10: ='2027 Lab Name A'!$G$33 -> 0 | G10: =SUM(D10:F10) -> 0 | I10: ='2028 Lab Name A'!$G$34 -> 0 | J10: ='2028 Lab Name B'!G34 -> 0 | K10: ='2028 Lab Name B'!$G$34 -> 0 | L10: =SUM(I10:K10) -> 0 | N10: ='2029 Lab Name A'!$G$34 -> 0 | O10: ='2029 Lab Name B'!G34 -> 0 | P10: ='2029 Lab Name B'!$G$34 -> 0 | Q10: =SUM(N10:P10) -> 0
A11: 23 | B11: Rentals | D11: ='2027 Lab Name A'!$G$36 -> 0 | E11: ='2027 Lab Name B'!$G$36 -> 0 | F11: ='2027 ORA'!$G$36 -> 0 | G11: =SUM(D11:F11) -> 0 | I11: ='2028 Lab Name A'!$G$37 -> 0 | J11: ='2028 Lab Name B'!G37 -> 0 | K11: ='2028 ORA'!$G$37 -> 0 | L11: =SUM(I11:K11) -> 0 | N11: ='2029 Lab Name A'!$G$37 -> 0 | O11: ='2029 Lab Name B'!G37 -> 0 | P11: ='2029 ORA'!$G$37 -> 0 | Q11: =SUM(N11:P11) -> 0
A12: 24 | B12: Printing | D12: ='2027 Lab Name A'!$G$39 -> 0 | E12: ='2027 Lab Name B'!$G$39 -> 0 | F12: ='2027 ORA'!$G$39 -> 0 | G12: =SUM(D12:F12) -> 0 | I12: ='2028 Lab Name A'!$G$40 -> 0 | J12: ='2028 Lab Name B'!G34 -> 0 | K12: ='2028 ORA'!$G$40 -> 0 | L12: =SUM(I12:K12) -> 0 | N12: ='2029 Lab Name A'!$G$40 -> 0 | O12: ='2029 Lab Name B'!G40 -> 0 | P12: ='2029 ORA'!$G$40 -> 0 | Q12: =SUM(N12:P12) -> 0
A13: 25 | B13: Contracts | D13: ='2027 Lab Name A'!$G$42 -> 0 | E13: ='2027 Lab Name B'!$G$42 -> 0 | F13: ='2027 ORA'!$G$42 -> 0 | G13: =SUM(D13:F13) -> 0 | I13: ='2028 Lab Name A'!$G$43 -> 0 | J13: ='2028 Lab Name B'!G43 -> 0 | K13: ='2028 ORA'!$G$43 -> 0 | L13: =SUM(I13:K13) -> 0 | N13: ='2029 Lab Name A'!$G$43 -> 0 | O13: ='2029 Lab Name B'!G43 -> 0 | P13: ='2029 ORA'!$G$43 -> 0 | Q13: =SUM(N13:P13) -> 0
A14: 26 | B14: Supplies | D14: ='2027 Lab Name A'!$G$51 -> 0 | E14: ='2027 Lab Name B'!$G$51 -> 0 | F14: ='2027 ORA'!$G$51 -> 0 | G14: =SUM(D14:F14) -> 0 | I14: ='2028 Lab Name A'!$G$52 -> 0 | J14: ='2028 Lab Name B'!G52 -> 0 | K14: ='2028 ORA'!$G$52 -> 0 | L14: =SUM(I14:K14) -> 0 | N14: ='2029 Lab Name A'!$G$52 -> 0 | O14: ='2029 Lab Name B'!G52 -> 0 | P14: ='2029 ORA'!$G$52 -> 0 | Q14: =SUM(N14:P14) -> 0
A15: 31 | B15: Equipment | D15: ='2027 Lab Name A'!$G$56 -> 0 | E15: ='2027 Lab Name B'!$G$56 -> 0 | F15: ='2027 ORA'!$G$56 -> 0 | G15: =SUM(D15:F15) -> 0 | I15: ='2028 Lab Name A'!$G$57 -> 0 | J15: ='2028 Lab Name B'!G57 -> 0 | K15: ='2028 ORA'!$G$57 -> 0 | L15: =SUM(I15:K15) -> 0 | N15: ='2029 Lab Name A'!$G$57 -> 0 | O15: ='2029 Lab Name B'!G57 -> 0 | P15: ='2029 ORA'!$G$57 -> 0 | Q15: =SUM(N15:P15) -> 0
B16: Other Direct Costs | D16: ='2027 Lab Name A'!$G$62 -> 0 | E16: ='2027 Lab Name B'!$G$62 -> 0 | F16: ='2027 ORA'!$G$62 -> 0 | G16: =SUM(D16:F16) -> 0 | I16: ='2028 Lab Name A'!$G$63 -> 0 | J16: ='2028 Lab Name B'!G42 -> 0 | K16: ='2028 ORA'!$G$63 -> 0 | L16: =SUM(I16:K16) -> 0 | N16: ='2029 Lab Name A'!$G$63 -> 0 | O16: ='2029 Lab Name B'!G63 -> 0 | P16: ='2029 ORA'!$G$63 -> 0 | Q16: =SUM(N16:P16) -> 0
B17: Indirect Costs | D17: ='2027 Lab Name A'!$G$67 -> 0 | E17: ='2027 Lab Name B'!$G$67 -> 0 | F17: ='2027 ORA'!$G$67 -> 0 | G17: =SUM(D17:F17) -> 0 | I17: ='2028 Lab Name A'!$G$68 -> 0 | J17: ='2028 Lab Name B'!G43 -> 0 | K17: ='2028 ORA'!$G$68 -> 0 | L17: =SUM(I17:K17) -> 0 | N17: ='2029 Lab Name A'!$G$68 -> 0 | O17: ='2029 Lab Name B'!G68 -> 0 | P17: ='2029 ORA'!$G$68 -> 0 | Q17: =SUM(N17:P17) -> 0
B18: 10 USC 4123 | D18: ='2027 Lab Name A'!$G$69 -> 0 | E18: ='2027 Lab Name B'!$G$69 -> 0 | F18: ='2027 ORA'!$G$69 -> 0 | G18: =SUM(D18:F18) -> 0 | I18: ='2028 Lab Name A'!$G$70 -> 0 | J18: ='2028 Lab Name B'!G44 -> 0 | K18: ='2028 ORA'!$G$70 -> 0 | L18: =SUM(I18:K18) -> 0 | N18: ='2029 Lab Name A'!$G$70 -> 0 | O18: ='2029 Lab Name B'!G70 -> 0 | P18: ='2029 ORA'!$G$70 -> 0 | Q18: =SUM(N18:P18) -> 0
B19: TOTAL COST | D19: ='2027 Lab Name A'!$G$70 -> 0 | E19: ='2027 Lab Name B'!$G$70 -> 0 | F19: ='2027 ORA'!$G$70 -> 0 | G19: =SUM(D19:F19) -> 0 | I19: ='2028 Lab Name A'!$G$71 -> 0 | J19: ='2028 Lab Name B'!G71 -> 0 | K19: ='2028 ORA'!$G$71 -> 0 | L19: =SUM(I19:K19) -> 0 | N19: ='2029 Lab Name A'!$G$71 -> 0 | O19: ='2029 Lab Name B'!G71 -> 0 | P19: ='2029 ORA'!$G$71 -> 0 | Q19: =SUM(N19:P19) -> 0
B20: Total Cost Rounded to nearest K | D20: =ROUND(D19,-3) -> 0 | E20: =ROUND(E19,-3) -> 0 | F20: =ROUND(F19,-3) -> 0 | G20: =SUM(D20:F20) -> 0 | I20: =ROUND(I19,-3) -> 0 | J20: =ROUND(J19,-3) -> 0 | K20: =ROUND(K19,-3) -> 0 | L20: =SUM(I20:K20) -> 0 | N20: =ROUND(N19,-3) -> 0 | O20: =ROUND(O19,-3) -> 0 | P20: =ROUND(P19,-3) -> 0 | Q20: =SUM(N20:P20) -> 0
B22: Civilian FTEs | D22: ='2027 Lab Name A'!$E$8 -> 0 | E22: ='2027 Lab Name B'!$E$8 -> 0 | F22: ='2027 ORA'!$E$9 -> 0 | G22: =SUM(D22:F22) -> 0 | I22: ='2028 Lab Name A'!$E$9 -> 0 | J22: ='2028 Lab Name B'!E9 -> 0 | K22: ='2027 ORA'!$E$9 -> 0 | L22: =SUM(I22:K22) -> 0 | N22: ='2029 Lab Name A'!$E$9 -> 0 | O22: ='2029 Lab Name B'!E9 -> 0 | P22: ='2027 ORA'!$E$9 -> 0 | Q22: =SUM(N22:P22) -> 0
B23: Military FTEs | D23: ='2027 Lab Name A'!$E$20 -> 0 | E23: ='2027 Lab Name B'!$E$20 -> 0 | F23: ='2027 ORA'!$E$20 -> 0 | G23: =SUM(D23:F23) -> 0 | I23: ='2028 Lab Name A'!$E$21 -> 0 | J23: ='2028 Lab Name B'!E21 -> 0 | K23: ='2027 ORA'!$E$20 -> 0 | L23: =SUM(I23:K23) -> 0 | N23: ='2029 Lab Name A'!$E$21 -> 0 | O23: ='2029 Lab Name B'!E21 -> 0 | P23: ='2027 ORA'!$E$20 -> 0 | Q23: =SUM(N23:P23) -> 0
B24: Contractor FTEs | D24: ='2027 Lab Name A'!$E$43 -> 0 | E24: ='2027 Lab Name B'!$E$43 -> 0 | G24: =SUM(D24:F24) -> 0 | I24: ='2028 Lab Name A'!$E$44 -> 0 | J24: ='2028 Lab Name B'!E44 -> 0 | K24: ='2027 ORA'!$E$43 -> 0 | L24: =SUM(I24:K24) -> 0 | N24: ='2029 Lab Name A'!$E$44 -> 0 | O24: ='2029 Lab Name B'!E44 -> 0 | P24: ='2027 ORA'!$E$43 -> 0 | Q24: =SUM(N24:P24) -> 0
B25: Total FTEs | D25: =SUM(D22:D24) -> 0 | E25: =SUM(E22:E24) -> 0 | F25: =SUM(F22:F24) -> 0 | G25: =SUM(D25:F25) -> 0 | I25: =SUM(I22:I24) -> 0 | J25: =SUM(J22:J24) -> 0 | K25: =SUM(K22:K24) -> 0 | L25: =SUM(I25:K25) -> 0 | N25: =SUM(N22:N24) -> 0 | O25: =SUM(O22:O24) -> 0 | P25: =SUM(P22:P24) -> 0 | Q25: =SUM(N25:P25) -> 0
B28: Total Direct Costs | D28: ='2027 Lab Name A'!G66 -> 0 | E28: ='2027 Lab Name B'!G66 -> 0 | F28: ='2027 ORA'!G66 -> 0 | G28: =SUM(D28:F28) -> 0 | I28: ='2028 Lab Name A'!G67 -> 0 | J28: ='2028 Lab Name B'!G67 -> 0 | K28: ='2028 ORA'!G67 -> 0 | L28: =SUM(I28:K28) -> 0 | N28: ='2029 Lab Name A'!G67 -> 0 | O28: ='2029 Lab Name B'!G67 -> 0 | P28: ='2029 ORA'!G67 -> 0 | Q28: =SUM(N28:P28) -> 0
B29: IDC Rate used | D29: ='2027 Lab Name A'!F67 -> 0 | E29: ='2027 Lab Name B'!F67 -> 0 | I29: ='2028 Lab Name A'!F68 -> 0 | J29: ='2028 Lab Name B'!F68 -> 0 | N29: ='2029 Lab Name A'!F68 -> 0 | O29: ='2029 Lab Name B'!F68 -> 0

Sheet 2027 Lab Name A
A1: Proposal/Plan #: | C1: eBRAP log number | D1: Note: These fields update header on Summary tab and additional Lab tabs.
A2: Proposal Title: | C2: Short title
A3: Investigator: | C3: PI Name
A4: Laboratory Name: | C4: Lab A | D4: i.e. USAMRIID, WRAIR, NAMRU-SA, etc - DO NOT LEAVE as Lab Name A
A5: FY: | C5: 2027
A6: EOR | B6: EOR Title | D6: Additional Info | E6: # Units/ FTEs | F6: Unit Cost | G6: Total
A8: 11 | B8: Government Labor | C8: Name | D8: JTD Alignment (FMTS#) | E8: =SUM(E9:E19) -> 0 | G8: =SUM(G9:G19) -> 0
F9: 0 | G9: =SUM(E9*F9) -> 0
F10: 0 | G10: =SUM(E10*F10) -> 0
F11: 0 | G11: =SUM(E11*F11) -> 0
F12: 0 | G12: =SUM(E12*F12) -> 0
F13: 0 | G13: =SUM(E13*F13) -> 0
F14: 0 | G14: =SUM(E14*F14) -> 0
F15: 0 | G15: =SUM(E15*F15) -> 0
F16: 0 | G16: =SUM(E16*F16) -> 0
F17: 0 | G17: =SUM(E17*F17) -> 0
F18: 0 | G18: =SUM(E18*F18) -> 0
F19: 0 | G19: =SUM(E19*F19) -> 0
A20: 11 | B20: Military Labor | C20: Name | E20: =SUM(E21:E28) -> 0 | G20: =SUM(G21:G28) -> 0
F21: 0 | G21: =SUM(E21*F21) -> 0
F22: 0 | G22: =SUM(E22*F22) -> 0
F23: 0 | G23: =SUM(E23*F23) -> 0
F24: 0 | G24: =SUM(E24*F24) -> 0
F25: 0 | G25: =SUM(E25*F25) -> 0
F26: 0 | G26: =SUM(E26*F26) -> 0
F27: 0 | G27: =SUM(E27*F27) -> 0
F28: 0 | G28: =SUM(E28*F28) -> 0
A29: 21 | B29: Travel | G29: =SUM(G30:G32) -> 0
F30: 0 | G30: =F30*E30 -> 0
F31: 0 | G31: =F31*E31 -> 0
F32: 0 | G32: =F32*E32 -> 0
A33: 22 | B33: Shipping | G33: =SUM(G34:G35) -> 0
F34: 0 | G34: =SUM(E34*F34) -> 0
F35: 0 | G35: =SUM(E35*F35) -> 0
A36: 23 | B36: Rentals | G36: =SUM(G37:G38) -> 0
F37: 0 | G37: =SUM(E37*F37) -> 0
F38: 0 | G38: =SUM(E38*F38) -> 0
A39: 24 | B39: Printing | G39: =SUM(G40:G41) -> 0
F40: 0 | G40: =SUM(E40*F40) -> 0
F41: 0 | G41: =SUM(E41*F41) -> 0
...

Sheet 2027 Lab Name B
A1: Proposal/Plan #: | C1: ='2027 Lab Name A'!C1 -> eBRAP log number | D1: Note - this is updated from the 2027 Lab A tab.
A2: Proposal Title: | C2: ='2027 Lab Name A'!C2 -> Short title
A3: Investigator: | C3: PI Name | D3: Note - this cell updates the summary tab.
A4: Laboratory Name: | C4: Lab B | D4: i.e. USAMRIID, WRAIR, NAMRU-SA, etc - DO NOT LEAVE as Lab B
A5: FY: | C5: 2027
A6: EOR | B6: EOR Title | D6: Additional Info | E6: # Units/ FTEs | F6: Unit Cost | G6: Total
A8: 11 | B8: Government Labor | C8: Name | D8: JTD Alignment (FMTS#) | E8: =SUM(E9:E19) -> 0 | G8: =SUM(G9:G19) -> 0
F9: 0 | G9: =SUM(E9*F9) -> 0
F10: 0 | G10: =SUM(E10*F10) -> 0
F11: 0 | G11: =SUM(E11*F11) -> 0
F12: 0 | G12: =SUM(E12*F12) -> 0
F13: 0 | G13: =SUM(E13*F13) -> 0
F14: 0 | G14: =SUM(E14*F14) -> 0
F15: 0 | G15: =SUM(E15*F15) -> 0
F16: 0 | G16: =SUM(E16*F16) -> 0
F17: 0 | G17: =SUM(E17*F17) -> 0
F18: 0 | G18: =SUM(E18*F18) -> 0
F19: 0 | G19: =SUM(E19*F19) -> 0
A20: 11 | B20: Military Labor | C20: Name | E20: =SUM(E21:E28) -> 0 | G20: =SUM(G21:G28) -> 0
F21: 0 | G21: =SUM(E21*F21) -> 0
F22: 0 | G22: =SUM(E22*F22) -> 0
F23: 0 | G23: =SUM(E23*F23) -> 0
F24: 0 | G24: =SUM(E24*F24) -> 0
F25: 0 | G25: =SUM(E25*F25) -> 0
F26: 0 | G26: =SUM(E26*F26) -> 0
F27: 0 | G27: =SUM(E27*F27) -> 0
F28: 0 | G28: =SUM(E28*F28) -> 0
A29: 21 | B29: Travel | G29: =SUM(G30:G32) -> 0
F30: 0 | G30: =F30*E30 -> 0
F31: 0 | G31: =F31*E31 -> 0
F32: 0 | G32: =SUM(E32*F32) -> 0
A33: 22 | B33: Shipping | G33: =SUM(G34:G35) -> 0
F34: 0 | G34: =SUM(E34*F34) -> 0
F35: 0 | G35: =SUM(E35*F35) -> 0
A36: 23 | B36: Rentals | G36: =SUM(G37:G38) -> 0
F37: 0 | G37: =SUM(E37*F37) -> 0
F38: 0 | G38: =SUM(E38*F38) -> 0
A39: 24 | B39: Printing | G39: =SUM(G40:G41) -> 0
F40: 0 | G40: =SUM(E40*F40) -> 0
F41: 0 | G41: =SUM(E41*F41) -> 0
...

Sheet 2027 ORA
A1: Complete only if coordination with the MRDC Office of Regulatory Activities (ORA) is required. Confirmation and spend plan from ORA required.
A2: Proposal/Plan #: | C2: ='2027 Lab Name A'!C1 -> eBRAP log number | D2: Note - This is updated by the 2027 Lab A tab.
A3: Proposal Title: | C3: ='2027 Lab Name A'!C2 -> Short title
A4: ORA POC: | C4: ORA Name | D4: Note: This updates in the summary tab.
A5: Entity: | C5: ORA
A6: FY: | C6: 2027
A7: EOR | B7: EOR Title | D7: Additional Info | E7: # Units/ FTEs | F7: Unit Cost | G7: Total
A9: 11 | B9: Government Labor | C9: Name | D9: JTD Alignment (FMTS#) | E9: =SUM(E10:E20) -> 0 | G9: =SUM(G10:G20) -> 0
F10: 0 | G10: =SUM(E10*F10) -> 0
F11: 0 | G11: =SUM(E11*F11) -> 0
F12: 0 | G12: =SUM(E12*F12) -> 0
F13: 0 | G13: =SUM(E13*F13) -> 0
F14: 0 | G14: =SUM(E14*F14) -> 0
F15: 0 | G15: =SUM(E15*F15) -> 0
F16: 0 | G16: =SUM(E16*F16) -> 0
F17: 0 | G17: =SUM(E17*F17) -> 0
F18: 0 | G18: =SUM(E18*F18) -> 0
F19: 0 | G19: =SUM(E19*F19) -> 0
F20: 0 | G20: =SUM(E20*F20) -> 0
A21: 11 | B21: Military Labor | C21: Name | E21: =SUM(E22:E29) -> 0 | G21: =SUM(G22:G29) -> 0
F22: 0 | G22: =SUM(E22*F22) -> 0
F23: 0 | G23: =SUM(E23*F23) -> 0
F24: 0 | G24: =SUM(E24*F24) -> 0
F25: 0 | G25: =SUM(E25*F25) -> 0
F26: 0 | G26: =SUM(E26*F26) -> 0
F27: 0 | G27: =SUM(E27*F27) -> 0
F28: 0 | G28: =SUM(E28*F28) -> 0
F29: 0 | G29: =SUM(E29*F29) -> 0
A30: 21 | B30: Travel | G30: =SUM(G31:G33) -> 0
F31: 0 | G31: =F31*E31 -> 0
F32: 0 | G32: =F32*E32 -> 0
F33: 0 | G33: =F33*E33 -> 0
A34: 22 | B34: Shipping | G34: =SUM(G35:G36) -> 0
F35: 0 | G35: =SUM(E35*F35) -> 0
F36: 0 | G36: =SUM(E36*F36) -> 0
A37: 23 | B37: Rentals | G37: =SUM(G38:G39) -> 0
F38: 0 | G38: =SUM(E38*F38) -> 0
F39: 0 | G39: =SUM(E39*F39) -> 0
A40: 24 | B40: Printing | G40: =SUM(G41:G42) -> 0
F41: 0 | G41: =SUM(E41*F41) -> 0
...

Sheet 2028 Lab Name A
A1: Proposal/Plan #: | C1: ='2027 Lab Name A'!C1 -> eBRAP log number | D1: Note - this is updated from the 2027 Lab A tab.
A2: Proposal Title: | C2: ='2027 Lab Name A'!C2 -> Short title
A3: Investigator: | C3: PI Name | D3: Note - this cell updates the summary tab.
A4: Laboratory Name: | C4: Lab A | D4: i.e. USAMRIID, WRAIR, NAMRU-SA, etc
A5: FY: | C5: 2028
A6: Monthly Spend Plan not required at time of submission. Monthly spend plan will be required if tail is funded in FY28.
A7: EOR | B7: EOR Title | D7: Additional Info | E7: # Units/ FTEs | F7: Unit Cost | G7: Total
A9: 11 | B9: Government Labor | C9: Name | D9: JTD Alignment (FMTS#) | E9: =SUM(E10:E20) -> 0 | G9: =SUM(G10:G20) -> 0
F10: 0 | G10: =SUM(E10*F10) -> 0
F11: 0 | G11: =SUM(E11*F11) -> 0
F12: 0 | G12: =SUM(E12*F12) -> 0
F13: 0 | G13: =SUM(E13*F13) -> 0
F14: 0 | G14: =SUM(E14*F14) -> 0
F15: 0 | G15: =SUM(E15*F15) -> 0
F16: 0 | G16: =SUM(E16*F16) -> 0
F17: 0 | G17: =SUM(E17*F17) -> 0
F18: 0 | G18: =SUM(E18*F18) -> 0
F19: 0 | G19: =SUM(E19*F19) -> 0
F20: 0 | G20: =SUM(E20*F20) -> 0
A21: 11 | B21: Military Labor | C21: Name | E21: =SUM(E22:E29) -> 0 | G21: =SUM(G22:G29) -> 0
F22: 0 | G22: =SUM(E22*F22) -> 0
F23: 0 | G23: =SUM(E23*F23) -> 0
F24: 0 | G24: =SUM(E24*F24) -> 0
F25: 0 | G25: =SUM(E25*F25) -> 0
F26: 0 | G26: =SUM(E26*F26) -> 0
F27: 0 | G27: =SUM(E27*F27) -> 0
F28: 0 | G28: =SUM(E28*F28) -> 0
F29: 0 | G29: =SUM(E29*F29) -> 0
A30: 21 | B30: Travel | G30: =SUM(G31:G33) -> 0
F31: 0 | G31: =F31*E31 -> 0
F32: 0 | G32: =F32*E32 -> 0
F33: 0 | G33: =F33*E33 -> 0
A34: 22 | B34: Shipping | G34: =SUM(G35:G36) -> 0
F35: 0 | G35: =SUM(E35*F35) -> 0
F36: 0 | G36: =SUM(E36*F36) -> 0
A37: 23 | B37: Rentals | G37: =SUM(G38:G39) -> 0
F38: 0 | G38: =SUM(E38*F38) -> 0
F39: 0 | G39: =SUM(E39*F39) -> 0
A40: 24 | B40: Printing | G40: =SUM(G41:G42) -> 0
F41: 0 | G41: =SUM(E41*F41) -> 0
...

Sheet 2028 Lab Name B
A1: Proposal/Plan #: | C1: ='2027 Lab Name A'!C1 -> eBRAP log number | D1: Note - this is updated from the 2027 Lab A tab.
A2: Proposal Title: | C2: ='2027 Lab Name A'!C2 -> Short title
A3: Investigator: | C3: PI Name | D3: Note - this cell updates the summary tab.
A4: Laboratory Name: | C4: Lab B | D4: i.e. USAMRIID, WRAIR, NAMRU-SA, etc
A5: FY: | C5: 2028
A6: Monthly Spend Plan not required at time of submission. Monthly spend plan will be required if tail is funded in FY28.
A7: EOR | B7: EOR Title | D7: Additional Info | E7: # Units/ FTEs | F7: Unit Cost | G7: Total
A9: 11 | B9: Government Labor | C9: Name | D9: JTD Alignment (FMTS#) | E9: =SUM(E10:E20) -> 0 | G9: =SUM(G10:G20) -> 0
F10: 0 | G10: =SUM(E10*F10) -> 0
F11: 0 | G11: =SUM(E11*F11) -> 0
F12: 0 | G12: =SUM(E12*F12) -> 0
F13: 0 | G13: =SUM(E13*F13) -> 0
F14: 0 | G14: =SUM(E14*F14) -> 0
F15: 0 | G15: =SUM(E15*F15) -> 0
F16: 0 | G16: =SUM(E16*F16) -> 0
F17: 0 | G17: =SUM(E17*F17) -> 0
F18: 0 | G18: =SUM(E18*F18) -> 0
F19: 0 | G19: =SUM(E19*F19) -> 0
F20: 0 | G20: =SUM(E20*F20) -> 0
A21: 11 | B21: Military Labor | C21: Name | E21: =SUM(E22:E29) -> 0 | G21: =SUM(G22:G29) -> 0
F22: 0 | G22: =SUM(E22*F22) -> 0
F23: 0 | G23: =SUM(E23*F23) -> 0
F24: 0 | G24: =SUM(E24*F24) -> 0
F25: 0 | G25: =SUM(E25*F25) -> 0
F26: 0 | G26: =SUM(E26*F26) -> 0
F27: 0 | G27: =SUM(E27*F27) -> 0
F28: 0 | G28: =SUM(E28*F28) -> 0
F29: 0 | G29: =SUM(E29*F29) -> 0
A30: 21 | B30: Travel | G30: =SUM(G31:G33) -> 0
F31: 0 | G31: =F31*E31 -> 0
F32: 0 | G32: =F32*E32 -> 0
F33: 0 | G33: =F33*E33 -> 0
A34: 22 | B34: Shipping | G34: =SUM(G35:G36) -> 0
F35: 0 | G35: =SUM(E35*F35) -> 0
F36: 0 | G36: =SUM(E36*F36) -> 0
A37: 23 | B37: Rentals | G37: =SUM(G38:G39) -> 0
F38: 0 | G38: =SUM(E38*F38) -> 0
F39: 0 | G39: =SUM(E39*F39) -> 0
A40: 24 | B40: Printing | G40: =SUM(G41:G42) -> 0
F41: 0 | G41: =SUM(E41*F41) -> 0
...

Sheet 2028 ORA
A1: Complete only if coordination with the MRDC Office of Regulatory Activities (ORA) is required. Confirmation from ORA required.
A2: Proposal/Plan #: | C2: ='2027 Lab Name A'!C1 -> eBRAP log number | D2: Note - This is updated by the 2027 Lab A tab.
A3: Proposal Title: | C3: ='2027 Lab Name A'!C2 -> Short title
A4: ORA POC: | C4: ORA Name | D4: Note: This updates in the summary tab.
A5: Entity: | C5: ORA
A6: FY: | C6: 2028
A7: Monthly Spend Plan not required at time of submission. Montly spend plan will be required if tail is funded in FY28.
A8: EOR | B8: EOR Title | D8: Additional Info | E8: # Units/ FTEs | F8: Unit Cost | G8: Total
A10: 11 | B10: Government Labor | C10: Name | D10: JTD Alignment (FMTS#) | E10: =SUM(E11:E21) -> 0 | G10: =SUM(G11:G21) -> 0
F11: 0 | G11: =SUM(E11*F11) -> 0
F12: 0 | G12: =SUM(E12*F12) -> 0
F13: 0 | G13: =SUM(E13*F13) -> 0
F14: 0 | G14: =SUM(E14*F14) -> 0
F15: 0 | G15: =SUM(E15*F15) -> 0
F16: 0 | G16: =SUM(E16*F16) -> 0
F17: 0 | G17: =SUM(E17*F17) -> 0
F18: 0 | G18: =SUM(E18*F18) -> 0
F19: 0 | G19: =SUM(E19*F19) -> 0
F20: 0 | G20: =SUM(E20*F20) -> 0
F21: 0 | G21: =SUM(E21*F21) -> 0
A22: 11 | B22: Military Labor | C22: Name | E22: =SUM(E23:E30) -> 0 | G22: =SUM(G23:G30) -> 0
F23: 0 | G23: =SUM(E23*F23) -> 0
F24: 0 | G24: =SUM(E24*F24) -> 0
F25: 0 | G25: =SUM(E25*F25) -> 0
F26: 0 | G26: =SUM(E26*F26) -> 0
F27: 0 | G27: =SUM(E27*F27) -> 0
F28: 0 | G28: =SUM(E28*F28) -> 0
F29: 0 | G29: =SUM(E29*F29) -> 0
F30: 0 | G30: =SUM(E30*F30) -> 0
A31: 21 | B31: Travel | G31: =SUM(G32:G34) -> 0
F32: 0 | G32: =F32*E32 -> 0
F33: 0 | G33: =F33*E33 -> 0
F34: 0 | G34: =F34*E34 -> 0
A35: 22 | B35: Shipping | G35: =SUM(G36:G37) -> 0
F36: 0 | G36: =SUM(E36*F36) -> 0
F37: 0 | G37: =SUM(E37*F37) -> 0
A38: 23 | B38: Rentals | G38: =SUM(G39:G40) -> 0
F39: 0 | G39: =SUM(E39*F39) -> 0
F40: 0 | G40: =SUM(E40*F40) -> 0
A41: 24 | B41: Printing | G41: =SUM(G42:G43) -> 0
...

Sheet 2029 Lab Name A
A1: Proposal/Plan #: | C1: ='2027 Lab Name A'!C1 -> eBRAP log number | D1: Note - this is updated from the 2027 Lab A tab.
A2: Proposal Title: | C2: ='2027 Lab Name A'!C2 -> Short title
A3: Investigator: | C3: PI Name | D3: Note - this cell updates the summary tab.
A4: Laboratory Name: | C4: Lab A | D4: i.e. USAMRIID, WRAIR, NAMRU-SA, etc
A5: FY: | C5: 2029
A6: Monthly Spend Plan not required at time of submission. Monthly spend plan will be required if tail is funded in FY29.
A7: EOR | B7: EOR Title | D7: Additional Info | E7: # Units/ FTEs | F7: Unit Cost | G7: Total
A9: 11 | B9: Government Labor | C9: Name | D9: JTD Alignment (FMTS#) | E9: =SUM(E10:E20) -> 0 | G9: =SUM(G10:G20) -> 0
F10: 0 | G10: =SUM(E10*F10) -> 0
F11: 0 | G11: =SUM(E11*F11) -> 0
F12: 0 | G12: =SUM(E12*F12) -> 0
F13: 0 | G13: =SUM(E13*F13) -> 0
F14: 0 | G14: =SUM(E14*F14) -> 0
F15: 0 | G15: =SUM(E15*F15) -> 0
F16: 0 | G16: =SUM(E16*F16) -> 0
F17: 0 | G17: =SUM(E17*F17) -> 0
F18: 0 | G18: =SUM(E18*F18) -> 0
F19: 0 | G19: =SUM(E19*F19) -> 0
F20: 0 | G20: =SUM(E20*F20) -> 0
A21: 11 | B21: Military Labor | C21: Name | E21: =SUM(E22:E29) -> 0 | G21: =SUM(G22:G29) -> 0
F22: 0 | G22: =SUM(E22*F22) -> 0
F23: 0 | G23: =SUM(E23*F23) -> 0
F24: 0 | G24: =SUM(E24*F24) -> 0
F25: 0 | G25: =SUM(E25*F25) -> 0
F26: 0 | G26: =SUM(E26*F26) -> 0
F27: 0 | G27: =SUM(E27*F27) -> 0
F28: 0 | G28: =SUM(E28*F28) -> 0
F29: 0 | G29: =SUM(E29*F29) -> 0
A30: 21 | B30: Travel | G30: =SUM(G31:G33) -> 0
F31: 0 | G31: =F31*E31 -> 0
F32: 0 | G32: =F32*E32 -> 0
F33: 0 | G33: =F33*E33 -> 0
A34: 22 | B34: Shipping | G34: =SUM(G35:G36) -> 0
F35: 0 | G35: =SUM(E35*F35) -> 0
F36: 0 | G36: =SUM(E36*F36) -> 0
A37: 23 | B37: Rentals | G37: =SUM(G38:G39) -> 0
F38: 0 | G38: =SUM(E38*F38) -> 0
F39: 0 | G39: =SUM(E39*F39) -> 0
A40: 24 | B40: Printing | G40: =SUM(G41:G42) -> 0
F41: 0 | G41: =SUM(E41*F41) -> 0
...

Sheet 2029 Lab Name B
A1: Proposal/Plan #: | C1: ='2027 Lab Name A'!C1 -> eBRAP log number | D1: Note - this is updated from the 2027 Lab A tab.
A2: Proposal Title: | C2: ='2027 Lab Name A'!C2 -> Short title
A3: Investigator: | C3: PI Name | D3: Note - this cell updates the summary tab.
A4: Laboratory Name: | C4: Lab B | D4: i.e. USAMRIID, WRAIR, NAMRU-SA, etc
A5: FY: | C5: 2029
A6: Monthly Spend Plan not required at time of submission. Monthly spend plan will be required if tail is funded in FY29.
A7: EOR | B7: EOR Title | D7: Additional Info | E7: # Units/ FTEs | F7: Unit Cost | G7: Total
A9: 11 | B9: Government Labor | C9: Name | D9: JTD Alignment (FMTS#) | E9: =SUM(E10:E20) -> 0 | G9: =SUM(G10:G20) -> 0
F10: 0 | G10: =SUM(E10*F10) -> 0
F11: 0 | G11: =SUM(E11*F11) -> 0
F12: 0 | G12: =SUM(E12*F12) -> 0
F13: 0 | G13: =SUM(E13*F13) -> 0
F14: 0 | G14: =SUM(E14*F14) -> 0
F15: 0 | G15: =SUM(E15*F15) -> 0
F16: 0 | G16: =SUM(E16*F16) -> 0
F17: 0 | G17: =SUM(E17*F17) -> 0
F18: 0 | G18: =SUM(E18*F18) -> 0
F19: 0 | G19: =SUM(E19*F19) -> 0
F20: 0 | G20: =SUM(E20*F20) -> 0
A21: 11 | B21: Military Labor | C21: Name | E21: =SUM(E22:E29) -> 0 | G21: =SUM(G22:G29) -> 0
F22: 0 | G22: =SUM(E22*F22) -> 0
F23: 0 | G23: =SUM(E23*F23) -> 0
F24: 0 | G24: =SUM(E24*F24) -> 0
F25: 0 | G25: =SUM(E25*F25) -> 0
F26: 0 | G26: =SUM(E26*F26) -> 0
F27: 0 | G27: =SUM(E27*F27) -> 0
F28: 0 | G28: =SUM(E28*F28) -> 0
F29: 0 | G29: =SUM(E29*F29) -> 0
A30: 21 | B30: Travel | G30: =SUM(G31:G33) -> 0
F31: 0 | G31: =F31*E31 -> 0
F32: 0 | G32: =F32*E32 -> 0
F33: 0 | G33: =F33*E33 -> 0
A34: 22 | B34: Shipping | G34: =SUM(G35:G36) -> 0
F35: 0 | G35: =SUM(E35*F35) -> 0
F36: 0 | G36: =SUM(E36*F36) -> 0
A37: 23 | B37: Rentals | G37: =SUM(G38:G39) -> 0
F38: 0 | G38: =SUM(E38*F38) -> 0
F39: 0 | G39: =SUM(E39*F39) -> 0
A40: 24 | B40: Printing | G40: =SUM(G41:G42) -> 0
F41: 0 | G41: =SUM(E41*F41) -> 0
...

Sheet 2029 ORA
A1: Complete only if coordination with the MRDC Office of Regulatory Activities (ORA) is required. Confirmation from ORA required.
A2: Proposal/Plan #: | C2: ='2027 Lab Name A'!C1 -> eBRAP log number | D2: Note - This is updated by the 2027 Lab A tab.
A3: Proposal Title: | C3: ='2027 Lab Name A'!C2 -> Short title
A4: ORA POC: | C4: ORA Name | D4: Note: This updates in the summary tab.
A5: Entity: | C5: ORA
A6: FY: | C6: 2029
A7: Monthly Spend Plan not required at time of submission. Monthly spend plan will be required if tail is funded in FY29.
A8: EOR | B8: EOR Title | D8: Additional Info | E8: # Units/ FTEs | F8: Unit Cost | G8: Total
A10: 11 | B10: Government Labor | C10: Name | D10: JTD Alignment (FMTS#) | E10: =SUM(E11:E21) -> 0 | G10: =SUM(G11:G21) -> 0
F11: 0 | G11: =SUM(E11*F11) -> 0
F12: 0 | G12: =SUM(E12*F12) -> 0
F13: 0 | G13: =SUM(E13*F13) -> 0
F14: 0 | G14: =SUM(E14*F14) -> 0
F15: 0 | G15: =SUM(E15*F15) -> 0
F16: 0 | G16: =SUM(E16*F16) -> 0
F17: 0 | G17: =SUM(E17*F17) -> 0
F18: 0 | G18: =SUM(E18*F18) -> 0
F19: 0 | G19: =SUM(E19*F19) -> 0
F20: 0 | G20: =SUM(E20*F20) -> 0
F21: 0 | G21: =SUM(E21*F21) -> 0
A22: 11 | B22: Military Labor | C22: Name | E22: =SUM(E23:E30) -> 0 | G22: =SUM(G23:G30) -> 0
F23: 0 | G23: =SUM(E23*F23) -> 0
F24: 0 | G24: =SUM(E24*F24) -> 0
F25: 0 | G25: =SUM(E25*F25) -> 0
F26: 0 | G26: =SUM(E26*F26) -> 0
F27: 0 | G27: =SUM(E27*F27) -> 0
F28: 0 | G28: =SUM(E28*F28) -> 0
F29: 0 | G29: =SUM(E29*F29) -> 0
F30: 0 | G30: =SUM(E30*F30) -> 0
A31: 21 | B31: Travel | G31: =SUM(G32:G34) -> 0
F32: 0 | G32: =F32*E32 -> 0
F33: 0 | G33: =F33*E33 -> 0
F34: 0 | G34: =F34*E34 -> 0
A35: 22 | B35: Shipping | G35: =SUM(G36:G37) -> 0
F36: 0 | G36: =SUM(E36*F36) -> 0
F37: 0 | G37: =SUM(E37*F37) -> 0
A38: 23 | B38: Rentals | G38: =SUM(G39:G40) -> 0
F39: 0 | G39: =SUM(E39*F39) -> 0
F40: 0 | G40: =SUM(E40*F40) -> 0
A41: 24 | B41: Printing | G41: =SUM(G42:G43) -> 0
...
